BEGIN:VCALENDAR
VERSION:2.0
PRODID:-//92.5 the River - ECPv5.16.3.1//NONSGML v1.0//EN
CALSCALE:GREGORIAN
METHOD:PUBLISH
X-WR-CALNAME:92.5 the River
X-ORIGINAL-URL:https://theriverboston.com
X-WR-CALDESC:Events for 92.5 the River
BEGIN:VTIMEZONE
TZID:America/New_York
BEGIN:DAYLIGHT
TZOFFSETFROM:-0500
TZOFFSETTO:-0400
TZNAME:EDT
DTSTART:20250309T070000
END:DAYLIGHT
BEGIN:STANDARD
TZOFFSETFROM:-0400
TZOFFSETTO:-0500
TZNAME:EST
DTSTART:20251102T060000
END:STANDARD
END:VTIMEZONE
BEGIN:VEVENT
DTSTART;VALUE=DATE:20250626
DTEND;VALUE=DATE:20250629
DTSTAMP:20260419T084259
CREATED:20250520T143310Z
LAST-MODIFIED:20250520T143310Z
UID:227374-1750896000-1751155199@theriverboston.com
SUMMARY:Intown Concord Market Days Festival
DESCRIPTION:Market Days Festival | Thursday\, June 26th – Saturday\, June 28th  \n10:00 am – 10:00 pm Daily \nGet ready for Market Days – Concord’s biggest summer celebration! This three-day street festival takes over downtown with high-energy vibes and small-town charm\, all thanks to Intown Concord\, a passionate nonprofit with deep roots in the heart of the city. \nMain Street transforms into a vibrant marketplace featuring 150+ vendors offering everything from mouthwatering eats and unique fashion finds to handcrafted jewelry and unexpected treasures. \nBut that’s not all—three stages will be rocking all weekend long with an incredible lineup of local legends and nationally known acts. Whether you’re there for the tunes\, the food\, or just the good vibes\, Market Days is the summer experience you don’t want to miss! \nCheck Out Market Days!
URL:https://theriverboston.com/events/market-days-festival/
LOCATION:Main Street Concord\, 1 North Main Street\, Concord\, NH\, 03301\, United States
END:VEVENT
END:VCALENDAR