BEGIN:VCALENDAR
VERSION:2.0
PRODID:-//92.5 the River - ECPv5.16.3.1//NONSGML v1.0//EN
CALSCALE:GREGORIAN
METHOD:PUBLISH
X-WR-CALNAME:92.5 the River
X-ORIGINAL-URL:https://theriverboston.com
X-WR-CALDESC:Events for 92.5 the River
BEGIN:VTIMEZONE
TZID:America/New_York
BEGIN:DAYLIGHT
TZOFFSETFROM:-0500
TZOFFSETTO:-0400
TZNAME:EDT
DTSTART:20210314T070000
END:DAYLIGHT
BEGIN:STANDARD
TZOFFSETFROM:-0400
TZOFFSETTO:-0500
TZNAME:EST
DTSTART:20211107T060000
END:STANDARD
END:VTIMEZONE
BEGIN:VEVENT
DTSTART;TZID=America/New_York:20211018T200000
DTEND;TZID=America/New_York:20211018T200000
DTSTAMP:20260422T045751
CREATED:20211015T175852Z
LAST-MODIFIED:20211015T175852Z
UID:214930-1634587200-1634587200@theriverboston.com
SUMMARY:Martin Sexton @ Blue Ocean Music Hall!
DESCRIPTION:COME SEE MARTIN SEXTON AT SALISBURY BEACH!\nBUY TICKETS HERE!\nCome see Martin Sexton perform at the Blue Ocean Music Hall in Salisbury Beach. Enjoy great beverages and snacks as well as a great show!
URL:https://theriverboston.com/events/martin-sexton-blue-ocean-music-hall/
LOCATION:Blue Ocean Music Hall\, 4 Oceanfront North\, Salisbury\, MA\, 01952\, United States
END:VEVENT
END:VCALENDAR