BEGIN:VCALENDAR
VERSION:2.0
PRODID:-//92.5 the River - ECPv5.16.3.1//NONSGML v1.0//EN
CALSCALE:GREGORIAN
METHOD:PUBLISH
X-WR-CALNAME:92.5 the River
X-ORIGINAL-URL:https://theriverboston.com
X-WR-CALDESC:Events for 92.5 the River
BEGIN:VTIMEZONE
TZID:America/New_York
BEGIN:DAYLIGHT
TZOFFSETFROM:-0500
TZOFFSETTO:-0400
TZNAME:EDT
DTSTART:20170312T070000
END:DAYLIGHT
BEGIN:STANDARD
TZOFFSETFROM:-0400
TZOFFSETTO:-0500
TZNAME:EST
DTSTART:20171105T060000
END:STANDARD
END:VTIMEZONE
BEGIN:VEVENT
DTSTART;TZID=America/New_York:20170722T200000
DTEND;TZID=America/New_York:20170722T200000
DTSTAMP:20260423T043446
CREATED:20170705T163016Z
LAST-MODIFIED:20170705T163922Z
UID:49817-1500753600-1500753600@theriverboston.com
SUMMARY:Martin Sexton | Rockport Music
DESCRIPTION:Martin Sexton at Rockport Music\nThe dynamic American singer-songwriter Martin Sexton will be at the Shalin Liu Performance Center in Rockport\, MA on Saturday\, July 22nd! \nThe show begins at 8PM. \nGet your tickets today!
URL:https://theriverboston.com/events/martin-sexton-rockport-music/
LOCATION:Shalin Liu Performance Center\, 37 Main Street\, Rockport\, MA\, 01966\, United States
END:VEVENT
END:VCALENDAR