BEGIN:VCALENDAR
VERSION:2.0
PRODID:-//92.5 the River - ECPv5.16.3.1//NONSGML v1.0//EN
CALSCALE:GREGORIAN
METHOD:PUBLISH
X-WR-CALNAME:92.5 the River
X-ORIGINAL-URL:https://theriverboston.com
X-WR-CALDESC:Events for 92.5 the River
BEGIN:VTIMEZONE
TZID:America/New_York
BEGIN:DAYLIGHT
TZOFFSETFROM:-0500
TZOFFSETTO:-0400
TZNAME:EDT
DTSTART:20250309T070000
END:DAYLIGHT
BEGIN:STANDARD
TZOFFSETFROM:-0400
TZOFFSETTO:-0500
TZNAME:EST
DTSTART:20251102T060000
END:STANDARD
END:VTIMEZONE
BEGIN:VEVENT
DTSTART;TZID=America/New_York:20250802T200000
DTEND;TZID=America/New_York:20250802T200000
DTSTAMP:20260422T165904
CREATED:20250728T183940Z
LAST-MODIFIED:20250728T184432Z
UID:228345-1754164800-1754164800@theriverboston.com
SUMMARY:Mat Kearney at Casino Ballroom
DESCRIPTION:Get Tickets \nMat Kearney – Headlights Home Tour w/ Special guest Garrett Adair\nOver his career\, Kearney has released seven studio LPs\, claimed the #1 spot on iTunes\, topped multiple Billboard charts\, made four entries into the Hot 100\, and amassed over 2.5 BILLION global streams. Kearney\, a Multi-Platinum songwriter and producer\, has performed live on TODAY Show\, Ellen\, The Tonight Show\, Letterman and Jimmy Kimmel Live! and has garnered raves from USA Today\, Entertainment Weekly\, People\, Billboard\, PARADE and Marie Claire. He also has an incredible touring history\, sharing the road with everyone from John Mayer to NEEDTOBREATHE. \n\nFind More Casino Ballroom Shows 
URL:https://theriverboston.com/events/mat-kearney-casino-ballroom/
LOCATION:Hampton Beach Casino Ballroom\, 169 Ocean Blvd\, Hampton\, NH\, United States
END:VEVENT
END:VCALENDAR