BEGIN:VCALENDAR
VERSION:2.0
PRODID:-//92.5 the River - ECPv5.16.3.1//NONSGML v1.0//EN
CALSCALE:GREGORIAN
METHOD:PUBLISH
X-WR-CALNAME:92.5 the River
X-ORIGINAL-URL:https://theriverboston.com
X-WR-CALDESC:Events for 92.5 the River
BEGIN:VTIMEZONE
TZID:America/New_York
BEGIN:DAYLIGHT
TZOFFSETFROM:-0500
TZOFFSETTO:-0400
TZNAME:EDT
DTSTART:20190310T070000
END:DAYLIGHT
BEGIN:STANDARD
TZOFFSETFROM:-0400
TZOFFSETTO:-0500
TZNAME:EST
DTSTART:20191103T060000
END:STANDARD
END:VTIMEZONE
BEGIN:VEVENT
DTSTART;TZID=America/New_York:20190929T190000
DTEND;TZID=America/New_York:20190929T190000
DTSTAMP:20260419T192555
CREATED:20190611T155102Z
LAST-MODIFIED:20190611T155102Z
UID:209342-1569783600-1569783600@theriverboston.com
SUMMARY:Matt Hatt and Edda Glass at The Music Hall Loft!
DESCRIPTION:As part of the Live at the Loft series\, Matt Hatt and Edda Glass will be taking the stage at The Music Hall Loft in Portsmouth\, New Hampshire on Sunday\, September 29 at 7:00 PM! Glass’ unmistakable voice and Hatt’s lyrical guitar make the pair one of the most outstanding shows of the fall! Tickets are on sale now.
URL:https://theriverboston.com/events/matt-hatt-and-edda-glass-at-the-music-hall-loft/
LOCATION:The Music Hall\, 28 Chestnut Street\, Portsmouth\, NH\, 03801\, United States
END:VEVENT
END:VCALENDAR