BEGIN:VCALENDAR
VERSION:2.0
PRODID:-//92.5 the River - ECPv5.16.3.1//NONSGML v1.0//EN
CALSCALE:GREGORIAN
METHOD:PUBLISH
X-WR-CALNAME:92.5 the River
X-ORIGINAL-URL:https://theriverboston.com
X-WR-CALDESC:Events for 92.5 the River
BEGIN:VTIMEZONE
TZID:America/New_York
BEGIN:DAYLIGHT
TZOFFSETFROM:-0500
TZOFFSETTO:-0400
TZNAME:EDT
DTSTART:20200308T070000
END:DAYLIGHT
BEGIN:STANDARD
TZOFFSETFROM:-0400
TZOFFSETTO:-0500
TZNAME:EST
DTSTART:20201101T060000
END:STANDARD
END:VTIMEZONE
BEGIN:VEVENT
DTSTART;TZID=America/New_York:20200414T193000
DTEND;TZID=America/New_York:20200414T193000
DTSTAMP:20260420T132725
CREATED:20191212T211137Z
LAST-MODIFIED:20200325T194806Z
UID:211364-1586892600-1586892600@theriverboston.com
SUMMARY:POSTPONED: Melissa Etheridge at The Music Hall
DESCRIPTION:Melissa Etheridge’s show at The Music Hall for their Intimately Yours Series has been rescheduled for a later date. Click here for more information and updates on this show! \nWith this\, her 14th studio album\, she brings it all to new levels of artistry. The songs of The Medicine Show are inspired by acts of kindness\, love\, resilience\, and bravery on all levels. The healing builds on the musical medicine of its two predecessors\, 2014’s exuberantly expressive This is M.E. and 2016’s joyous trip through the cherished history of the iconic Stax Records legacy\, Memphis Rock and Soul.
URL:https://theriverboston.com/events/melissa-etheridge-at-the-music-hall/
LOCATION:The Music Hall\, 28 Chestnut Street\, Portsmouth\, NH\, 03801\, United States
END:VEVENT
END:VCALENDAR