BEGIN:VCALENDAR
VERSION:2.0
PRODID:-//92.5 the River - ECPv5.16.3.1//NONSGML v1.0//EN
CALSCALE:GREGORIAN
METHOD:PUBLISH
X-WR-CALNAME:92.5 the River
X-ORIGINAL-URL:https://theriverboston.com
X-WR-CALDESC:Events for 92.5 the River
BEGIN:VTIMEZONE
TZID:America/New_York
BEGIN:DAYLIGHT
TZOFFSETFROM:-0500
TZOFFSETTO:-0400
TZNAME:EDT
DTSTART:20150308T070000
END:DAYLIGHT
BEGIN:STANDARD
TZOFFSETFROM:-0400
TZOFFSETTO:-0500
TZNAME:EST
DTSTART:20151101T060000
END:STANDARD
END:VTIMEZONE
BEGIN:VEVENT
DTSTART;TZID=America/New_York:20150731T200000
DTEND;TZID=America/New_York:20150731T223000
DTSTAMP:20260421T054015
CREATED:20150721T160044Z
LAST-MODIFIED:20150721T160044Z
UID:7836-1438372800-1438381800@theriverboston.com
SUMMARY:Melissa Ferrick Coming to The Sinclair
DESCRIPTION:Come see Melissa Ferrick on July 31!\n\n\nCheck out this great summer show at The Sinclair in Cambridge where Ferrick will give you a taste of her simple\, eloquent\, and honest new acoustic album! The show is on Friday\, July 31. Doors open at 8pm and show starts at 9pm. To find out more information\, check out Melissa Ferrick’s Facebook & Twitter!
URL:https://theriverboston.com/events/melissa-ferrick-coming-to-the-sinclair/
LOCATION:Sinclair\, 52 Church Street\, Cambridge\, 02138 \, United States
END:VEVENT
END:VCALENDAR