BEGIN:VCALENDAR
VERSION:2.0
PRODID:-//92.5 the River - ECPv5.16.3.1//NONSGML v1.0//EN
CALSCALE:GREGORIAN
METHOD:PUBLISH
X-WR-CALNAME:92.5 the River
X-ORIGINAL-URL:https://theriverboston.com
X-WR-CALDESC:Events for 92.5 the River
BEGIN:VTIMEZONE
TZID:America/New_York
BEGIN:DAYLIGHT
TZOFFSETFROM:-0500
TZOFFSETTO:-0400
TZNAME:EDT
DTSTART:20170312T070000
END:DAYLIGHT
BEGIN:STANDARD
TZOFFSETFROM:-0400
TZOFFSETTO:-0500
TZNAME:EST
DTSTART:20171105T060000
END:STANDARD
END:VTIMEZONE
BEGIN:VEVENT
DTSTART;TZID=America/New_York:20170715T200000
DTEND;TZID=America/New_York:20170715T200000
DTSTAMP:20260423T210627
CREATED:20170628T201400Z
LAST-MODIFIED:20170628T201822Z
UID:48990-1500148800-1500148800@theriverboston.com
SUMMARY:Melissa Ferrick | Firehouse Center for the Arts - SLO Series
DESCRIPTION:Join us at the Firehouse Center for the Arts on Saturday\, July 15th as we welcome this Ipswich native who has shared the stage with Morrissey\, Marc Cohn\, Paul Westerberg\, Weezer\, G-Love & Special Sauce\, Bob Dylan\, Ani DiFranco\, and many others!
URL:https://theriverboston.com/events/melissa-ferrick-firehouse-center-arts-slo-series/
LOCATION:Firehouse Center for the Arts\, Market Square\, Newburyport\, MA\, 01950\, United States
END:VEVENT
END:VCALENDAR