BEGIN:VCALENDAR
VERSION:2.0
PRODID:-//92.5 the River - ECPv5.16.3.1//NONSGML v1.0//EN
CALSCALE:GREGORIAN
METHOD:PUBLISH
X-WR-CALNAME:92.5 the River
X-ORIGINAL-URL:https://theriverboston.com
X-WR-CALDESC:Events for 92.5 the River
BEGIN:VTIMEZONE
TZID:America/New_York
BEGIN:DAYLIGHT
TZOFFSETFROM:-0500
TZOFFSETTO:-0400
TZNAME:EDT
DTSTART:20150308T070000
END:DAYLIGHT
BEGIN:STANDARD
TZOFFSETFROM:-0400
TZOFFSETTO:-0500
TZNAME:EST
DTSTART:20151101T060000
END:STANDARD
END:VTIMEZONE
BEGIN:VEVENT
DTSTART;TZID=America/New_York:20150626T193000
DTEND;TZID=America/New_York:20150626T220000
DTSTAMP:20260422T093603
CREATED:20150520T172555Z
LAST-MODIFIED:20150520T172555Z
UID:7120-1435347000-1435356000@theriverboston.com
SUMMARY:Mike Gordon of Phish LIVE in Lowell!
DESCRIPTION:Join Carolyn Morrell and the River Crew at Boarding House Park to see Mike Gordon LIVE!!! \nKeep up with Mike on Facebook and check out the Lowell Summer Music Series website for information on other great events! \nBuy your tickets and check the River’s Facebook and Twitter for a chance to win tickets!
URL:https://theriverboston.com/events/mike-gordon-of-phish-live-in-lowell/
LOCATION:Boarding House Park\, 40 French Street\, Lowell\, MA\, 01852\, United States
END:VEVENT
END:VCALENDAR