BEGIN:VCALENDAR
VERSION:2.0
PRODID:-//92.5 the River - ECPv5.16.3.1//NONSGML v1.0//EN
CALSCALE:GREGORIAN
METHOD:PUBLISH
X-WR-CALNAME:92.5 the River
X-ORIGINAL-URL:https://theriverboston.com
X-WR-CALDESC:Events for 92.5 the River
BEGIN:VTIMEZONE
TZID:America/New_York
BEGIN:DAYLIGHT
TZOFFSETFROM:-0500
TZOFFSETTO:-0400
TZNAME:EDT
DTSTART:20240310T070000
END:DAYLIGHT
BEGIN:STANDARD
TZOFFSETFROM:-0400
TZOFFSETTO:-0500
TZNAME:EST
DTSTART:20241103T060000
END:STANDARD
END:VTIMEZONE
BEGIN:VEVENT
DTSTART;TZID=America/New_York:20241022T180000
DTEND;TZID=America/New_York:20241022T180000
DTSTAMP:20260419T200302
CREATED:20240618T152127Z
LAST-MODIFIED:20240619T153822Z
UID:224206-1729620000-1729620000@theriverboston.com
SUMMARY:Mod Sun & lovelytheband @ Big Night Live
DESCRIPTION:MOD SUN is the stage name of alternative hip-hop rapper and musician Dylan Smith\, who has released a string of EPs and mixtapes since his debut in 2009 – hailing from Bloomington\, Minnesota\, U.S. \nMore information and tickets here
URL:https://theriverboston.com/events/mod-sun-lovelytheband-big-night-live/
LOCATION:Big Night Live\, 110 Causeway St\, Boston\, MA\, 02114\, United States
END:VEVENT
END:VCALENDAR