BEGIN:VCALENDAR
VERSION:2.0
PRODID:-//92.5 the River - ECPv5.16.3.1//NONSGML v1.0//EN
CALSCALE:GREGORIAN
METHOD:PUBLISH
X-WR-CALNAME:92.5 the River
X-ORIGINAL-URL:https://theriverboston.com
X-WR-CALDESC:Events for 92.5 the River
BEGIN:VTIMEZONE
TZID:America/New_York
BEGIN:DAYLIGHT
TZOFFSETFROM:-0500
TZOFFSETTO:-0400
TZNAME:EDT
DTSTART:20240310T070000
END:DAYLIGHT
BEGIN:STANDARD
TZOFFSETFROM:-0400
TZOFFSETTO:-0500
TZNAME:EST
DTSTART:20241103T060000
END:STANDARD
END:VTIMEZONE
BEGIN:VEVENT
DTSTART;TZID=America/New_York:20241110T200000
DTEND;TZID=America/New_York:20241110T200000
DTSTAMP:20260419T183313
CREATED:20241105T212057Z
LAST-MODIFIED:20241105T212126Z
UID:225494-1731268800-1731268800@theriverboston.com
SUMMARY:Modest Mouse @ MGM Music Hall
DESCRIPTION:Having recently completed another successful run with Pixies and Cat Power\, Modest Mouse continues to prove themselves to be one of the most consistent live acts today with another 2024 tour! Get your tickets here.
URL:https://theriverboston.com/events/modest-mouse-mgm-music-hall/
LOCATION:MGM Music Hall at Fenway\, 2 Lansdowne Street\, Boston\, MA\, 02215\, United States
END:VEVENT
END:VCALENDAR