BEGIN:VCALENDAR
VERSION:2.0
PRODID:-//92.5 the River - ECPv5.16.3.1//NONSGML v1.0//EN
CALSCALE:GREGORIAN
METHOD:PUBLISH
X-WR-CALNAME:92.5 the River
X-ORIGINAL-URL:https://theriverboston.com
X-WR-CALDESC:Events for 92.5 the River
BEGIN:VTIMEZONE
TZID:America/New_York
BEGIN:DAYLIGHT
TZOFFSETFROM:-0500
TZOFFSETTO:-0400
TZNAME:EDT
DTSTART:20150308T070000
END:DAYLIGHT
BEGIN:STANDARD
TZOFFSETFROM:-0400
TZOFFSETTO:-0500
TZNAME:EST
DTSTART:20151101T060000
END:STANDARD
END:VTIMEZONE
BEGIN:VEVENT
DTSTART;TZID=America/New_York:20150806T180000
DTEND;TZID=America/New_York:20150806T233000
DTSTAMP:20260421T000058
CREATED:20150619T192207Z
LAST-MODIFIED:20150619T192207Z
UID:7432-1438884000-1438903800@theriverboston.com
SUMMARY:Moe. Playing this August at Casino Ballroom
DESCRIPTION:Moe. Coming to Casino Ballroom August 6th\nGet your tickets before they sell out! \n\nMoe. is coming to Casino Ballroom this summer with a performance filled with “ferocious guitar riffs” and “intricate rhythms”. By putting on an entertaining\, mesmerizing\, and epic show\, Moe. will leave you far from unsatisfied! Check out more information on Casino Ballroom’s Facebook & Twitter. \n 
URL:https://theriverboston.com/events/moe-playing-this-august-at-casino-ballroom/
LOCATION:Casino Ballroom\, 169 Ocean Boulevard\, Hampton\, NH\, 03842\, United States
END:VEVENT
END:VCALENDAR