BEGIN:VCALENDAR
VERSION:2.0
PRODID:-//92.5 the River - ECPv5.16.3.1//NONSGML v1.0//EN
CALSCALE:GREGORIAN
METHOD:PUBLISH
X-WR-CALNAME:92.5 the River
X-ORIGINAL-URL:https://theriverboston.com
X-WR-CALDESC:Events for 92.5 the River
BEGIN:VTIMEZONE
TZID:America/New_York
BEGIN:DAYLIGHT
TZOFFSETFROM:-0500
TZOFFSETTO:-0400
TZNAME:EDT
DTSTART:20260308T070000
END:DAYLIGHT
BEGIN:STANDARD
TZOFFSETFROM:-0400
TZOFFSETTO:-0500
TZNAME:EST
DTSTART:20261101T060000
END:STANDARD
END:VTIMEZONE
BEGIN:VEVENT
DTSTART;TZID=America/New_York:20260919T200000
DTEND;TZID=America/New_York:20260919T200000
DTSTAMP:20260424T094252
CREATED:20250623T173657Z
LAST-MODIFIED:20251201T175114Z
UID:227893-1789848000-1789848000@theriverboston.com
SUMMARY:Mt. Joy @ TD Garden!
DESCRIPTION:Mt. Joy | Saturday\, September 19th \nDoors: 7:00pm | Show: 8:00pm \nRiverfest alumni Mt. Joy are returning to headlining TD Garden this September! This electric folk-rock band take their name from Mt. Joy in Valley Forge National Park\, located just outside frontman Matt Quinn’s home city of Philadelphia. \nMt. Joy’s recently release is their fourth studio album\, Hope We Have Fun\, which came out this past May. The album was preceded by singles like “She Wants to Go Dancing” and “Coyote\,” and it is the band’s first release on their new label\, Bloom Field Records.  \nDon’t miss your chance to see Mt. Joy at the Garden! \n\nMore Information Here
URL:https://theriverboston.com/events/mt-joy-td-garden/
LOCATION:TD Garden\, 100 Legends Way\, Boston\, MA\, 02114\, United States
END:VEVENT
END:VCALENDAR