BEGIN:VCALENDAR
VERSION:2.0
PRODID:-//92.5 the River - ECPv5.16.3.1//NONSGML v1.0//EN
CALSCALE:GREGORIAN
METHOD:PUBLISH
X-WR-CALNAME:92.5 the River
X-ORIGINAL-URL:https://theriverboston.com
X-WR-CALDESC:Events for 92.5 the River
BEGIN:VTIMEZONE
TZID:America/New_York
BEGIN:DAYLIGHT
TZOFFSETFROM:-0500
TZOFFSETTO:-0400
TZNAME:EDT
DTSTART:20170312T070000
END:DAYLIGHT
BEGIN:STANDARD
TZOFFSETFROM:-0400
TZOFFSETTO:-0500
TZNAME:EST
DTSTART:20171105T060000
END:STANDARD
END:VTIMEZONE
BEGIN:VEVENT
DTSTART;TZID=America/New_York:20170304T150000
DTEND;TZID=America/New_York:20170304T170000
DTSTAMP:20260425T202148
CREATED:20170217T200418Z
LAST-MODIFIED:20170301T164201Z
UID:35890-1488639600-1488646800@theriverboston.com
SUMMARY:Music On The Mountain at Gunstock
DESCRIPTION:Join Gunstock Mountain Resort and 92.5 The River for an awesome Après Ski Party in the Pistol Pub from 3 -5. Jamming out on stage will be The Michael Vincent Band.  They have been playing together for more the 10 years and have opened up for Eric Burdon of The Animals and WAR and Jack Bruce of the Band Cream. There will be a Moat Mountain Beer specials going on as well. \n***** \nThis is a Regency Spells Relief Qualifying Event! \n \nRegency Mortgage and the River will be qualifying 92 lucky individuals for ONE ROLL of he dice on April 15th. If you qualify for the finals – and your dice spell out REGENCY – you’ll win $250\,000 cash in the REGENCY SPELLS RELIEF Dice Roll contest\, as we try to make Tax Day less taxing for one lucky person! For details on qualifying events or to enter for your chance to be selected as a qualifier visit: http://www.RegencySpellsRelief.com. \nFor years Regency Mortgage has made the process of financing or refinancing home mortgages less taxing. Contact them today for a quote and see how much you can save on your mortgage payment. Visit: http://www.RegencyMTG.com. \nNOTE: Qualifiers must appear in person and may not substitute another individual in your place. Please Note: If you cannot be present at the finals event in Manchester\, NH on Saturday April 15th from noon-4:00 pm your chance to roll the dice is not transferable!
URL:https://theriverboston.com/events/music-mountain-gunstock/
LOCATION:Gunstock Mountain\, 719 Cherry Valley Road\, Gilford\, NH\, 03249\, United States
END:VEVENT
END:VCALENDAR