BEGIN:VCALENDAR
VERSION:2.0
PRODID:-//92.5 the River - ECPv5.16.3.1//NONSGML v1.0//EN
CALSCALE:GREGORIAN
METHOD:PUBLISH
X-WR-CALNAME:92.5 the River
X-ORIGINAL-URL:https://theriverboston.com
X-WR-CALDESC:Events for 92.5 the River
BEGIN:VTIMEZONE
TZID:America/New_York
BEGIN:DAYLIGHT
TZOFFSETFROM:-0500
TZOFFSETTO:-0400
TZNAME:EDT
DTSTART:20170312T070000
END:DAYLIGHT
BEGIN:STANDARD
TZOFFSETFROM:-0400
TZOFFSETTO:-0500
TZNAME:EST
DTSTART:20171105T060000
END:STANDARD
END:VTIMEZONE
BEGIN:VEVENT
DTSTART;TZID=America/New_York:20170702T190000
DTEND;TZID=America/New_York:20170702T190000
DTSTAMP:20260424T172308
CREATED:20170421T174949Z
LAST-MODIFIED:20170421T174949Z
UID:42425-1499022000-1499022000@theriverboston.com
SUMMARY:Natalie Merchant at Tanglewood
DESCRIPTION:Natalie Merchant will be performing at Tanglewood\, home to the Boston Symphony Orchestra\, for the first time on Sunday\, July 2nd! Singer-songwriter Natalie Merchant is bringing her unique voice and style to the Koussevitzky Music Shed in Lennox\, MA. Beginning her alternative rock career in 1981\, the talented Merchant has released 7 solo albums and will likely perform songs from all of them! \nGet your tickets here!
URL:https://theriverboston.com/events/natalie-merchant-tanglewood/
LOCATION:Koussevitzky Music Shed\, 297 West Street\, Lenox\, MA\, 01240\, United States
END:VEVENT
END:VCALENDAR