BEGIN:VCALENDAR
VERSION:2.0
PRODID:-//92.5 the River - ECPv5.16.3.1//NONSGML v1.0//EN
CALSCALE:GREGORIAN
METHOD:PUBLISH
X-WR-CALNAME:92.5 the River
X-ORIGINAL-URL:https://theriverboston.com
X-WR-CALDESC:Events for 92.5 the River
BEGIN:VTIMEZONE
TZID:America/New_York
BEGIN:DAYLIGHT
TZOFFSETFROM:-0500
TZOFFSETTO:-0400
TZNAME:EDT
DTSTART:20190310T070000
END:DAYLIGHT
BEGIN:STANDARD
TZOFFSETFROM:-0400
TZOFFSETTO:-0500
TZNAME:EST
DTSTART:20191103T060000
END:STANDARD
END:VTIMEZONE
BEGIN:VEVENT
DTSTART;TZID=America/New_York:20191024T200000
DTEND;TZID=America/New_York:20191024T200000
DTSTAMP:20260420T170005
CREATED:20190611T161249Z
LAST-MODIFIED:20190611T161412Z
UID:209348-1571947200-1571947200@theriverboston.com
SUMMARY:Nella at The Music Hall Loft!
DESCRIPTION:As part of the Live at the Loft series\, soloist Nella will be performing at The Music Hall Loft on Thursday\, October 24 at 8:00 PM! A graduate of Berklee College of Music\, Nella has a handful of songs that she sings with bare soul. Recently\, Nella was asked to join Asghar Farhadi’s new movie “Everybody Knows” where she sings songs written and composed by Javier Limón and has recently played shows in Venezuela\, Spain\, Mexico\, and the United Kingdom to great acclaim! Tickets are available now.
URL:https://theriverboston.com/events/nella-at-the-music-hall-loft/
LOCATION:The Music Hall\, 28 Chestnut Street\, Portsmouth\, NH\, 03801\, United States
END:VEVENT
END:VCALENDAR