BEGIN:VCALENDAR
VERSION:2.0
PRODID:-//92.5 the River - ECPv5.16.3.1//NONSGML v1.0//EN
CALSCALE:GREGORIAN
METHOD:PUBLISH
X-WR-CALNAME:92.5 the River
X-ORIGINAL-URL:https://theriverboston.com
X-WR-CALDESC:Events for 92.5 the River
BEGIN:VTIMEZONE
TZID:America/New_York
BEGIN:DAYLIGHT
TZOFFSETFROM:-0500
TZOFFSETTO:-0400
TZNAME:EDT
DTSTART:20200308T070000
END:DAYLIGHT
BEGIN:STANDARD
TZOFFSETFROM:-0400
TZOFFSETTO:-0500
TZNAME:EST
DTSTART:20201101T060000
END:STANDARD
END:VTIMEZONE
BEGIN:VEVENT
DTSTART;TZID=America/New_York:20200306T200000
DTEND;TZID=America/New_York:20200306T200000
DTSTAMP:20260422T045751
CREATED:20191104T194205Z
LAST-MODIFIED:20191104T194205Z
UID:210975-1583524800-1583524800@theriverboston.com
SUMMARY:Nellie McKay At The Music Hall
DESCRIPTION:See Nellie McKay as part of the Live at The Loft Series\nNellie McKay is coming to The Music Hall as part of the Live at The Loft Series! \nNellie’s music has been heard on Mad Men\, Boardwalk Empire\, Weeds\, Grey’s Anatomy\, NCIS\, Nurse Jackie\, and SMILF\, and she has appeared on TV shows including The Late Show with David Letterman\, Conan\, Ferguson\, and The View. Nellie has made numerous radio appearances on NPR’s Mountain Stage\, A Prairie Home Companion\, eTown\, and Marion McPartland’s Piano Jazz.  The Chase Brock Experience produced a ballet of her third album\, Obligatory Villagers\, and she contributed the forward to the 20th anniversary edition of The Sexual Politics of Meat.  Her writing has also appeared in The Onion\, Interview\, and The New York Times Book Review.
URL:https://theriverboston.com/events/nellie-mckay-at-the-music-hall/
LOCATION:The Music Hall\, 28 Chestnut Street\, Portsmouth\, NH\, 03801\, United States
END:VEVENT
END:VCALENDAR