BEGIN:VCALENDAR
VERSION:2.0
PRODID:-//92.5 the River - ECPv5.16.3.1//NONSGML v1.0//EN
CALSCALE:GREGORIAN
METHOD:PUBLISH
X-WR-CALNAME:92.5 the River
X-ORIGINAL-URL:https://theriverboston.com
X-WR-CALDESC:Events for 92.5 the River
BEGIN:VTIMEZONE
TZID:America/New_York
BEGIN:DAYLIGHT
TZOFFSETFROM:-0500
TZOFFSETTO:-0400
TZNAME:EDT
DTSTART:20170312T070000
END:DAYLIGHT
BEGIN:STANDARD
TZOFFSETFROM:-0400
TZOFFSETTO:-0500
TZNAME:EST
DTSTART:20171105T060000
END:STANDARD
END:VTIMEZONE
BEGIN:VEVENT
DTSTART;TZID=America/New_York:20170618T120000
DTEND;TZID=America/New_York:20170618T120000
DTSTAMP:20260425T085403
CREATED:20170614T193008Z
LAST-MODIFIED:20181109T210443Z
UID:47896-1497787200-1497787200@theriverboston.com
SUMMARY:Neon Alley at the Indian Ranch
DESCRIPTION:Neon Alley\nNeon Alley will be performing at the Indian Ranch on Sunday\, June 18th\, at 12:30pm on the Corral Stage. The Barenaked Ladies will be performing on the mainstage later in the afternoon. \nNeon Alley’s song “That’s How It Is” was recently featured on our Homegrown Show! \nGet your tickets today. \nCheck out Neon Alley’s website and facebook!
URL:https://theriverboston.com/events/neon-alley-indian-ranch/
LOCATION:Indian Ranch\, 200 Gore Road\,  Webster\, MA \, 01570\, United States
END:VEVENT
END:VCALENDAR