BEGIN:VCALENDAR
VERSION:2.0
PRODID:-//92.5 the River - ECPv5.16.3.1//NONSGML v1.0//EN
CALSCALE:GREGORIAN
METHOD:PUBLISH
X-WR-CALNAME:92.5 the River
X-ORIGINAL-URL:https://theriverboston.com
X-WR-CALDESC:Events for 92.5 the River
BEGIN:VTIMEZONE
TZID:America/New_York
BEGIN:DAYLIGHT
TZOFFSETFROM:-0500
TZOFFSETTO:-0400
TZNAME:EDT
DTSTART:20170312T070000
END:DAYLIGHT
BEGIN:STANDARD
TZOFFSETFROM:-0400
TZOFFSETTO:-0500
TZNAME:EST
DTSTART:20171105T060000
END:STANDARD
END:VTIMEZONE
BEGIN:VEVENT
DTSTART;TZID=America/New_York:20170617T183000
DTEND;TZID=America/New_York:20170617T183000
DTSTAMP:20260425T132429
CREATED:20170614T191921Z
LAST-MODIFIED:20181109T210449Z
UID:47891-1497724200-1497724200@theriverboston.com
SUMMARY:Neon Alley at The Middle East
DESCRIPTION:Neon Alley\nNeon Alley will be performing at The Middle East in Cambridge\, MA on Saturday\, June 17th.  \nDoors open at 6:30pm.  \nNeon Alley’s song “That’s How It Is” was recently featured on our Homegrown Show! \nGet your tickets today. \nCheck out their website and facebook!
URL:https://theriverboston.com/events/neon-alley-middle-east/
LOCATION:The Middle East\, 472-480 Massachusetts Ave. Central Square \, Cambridge\,  \, MA \, 02139\, United States
END:VEVENT
END:VCALENDAR