BEGIN:VCALENDAR
VERSION:2.0
PRODID:-//92.5 the River - ECPv5.16.3.1//NONSGML v1.0//EN
CALSCALE:GREGORIAN
METHOD:PUBLISH
X-WR-CALNAME:92.5 the River
X-ORIGINAL-URL:https://theriverboston.com
X-WR-CALDESC:Events for 92.5 the River
BEGIN:VTIMEZONE
TZID:America/New_York
BEGIN:DAYLIGHT
TZOFFSETFROM:-0500
TZOFFSETTO:-0400
TZNAME:EDT
DTSTART:20210314T070000
END:DAYLIGHT
BEGIN:STANDARD
TZOFFSETFROM:-0400
TZOFFSETTO:-0500
TZNAME:EST
DTSTART:20211107T060000
END:STANDARD
END:VTIMEZONE
BEGIN:VEVENT
DTSTART;TZID=America/New_York:20211204T193000
DTEND;TZID=America/New_York:20211204T193000
DTSTAMP:20260419T142345
CREATED:20211130T141945Z
LAST-MODIFIED:20211130T141945Z
UID:215314-1638646200-1638646200@theriverboston.com
SUMMARY:New England Film Orchestra Live in Arlington
DESCRIPTION:A Night of Holiday-Themed Classics From Films You Love\n\nGET TICKETS\nJoin the New England Film orchestra and choir for a night of holiday-themed film music\, including selections from The Nightmare Before Christmas\, Home Alone\, The Polar Express\, Charlie Brown Christmas\, The Grinch\, The Holiday\, Christmas Eve/Sarajevo 12/24 The Nutcracker\, Hanukah Habanera and other holiday classics! \nNote: Proof of vaccination and masks are required. \n\nCan’t attend? Stream virtually\nLearn more about NEFO\nNeed a free ticket?\nFollow on Facebook and Instagram
URL:https://theriverboston.com/events/new-england-film-orchestra-live-in-arlington/
LOCATION:Robbins Memorial Town Hall\, 730 Massachusetts Ave\, Arlington\, MA\, 02476\, United States
ORGANIZER;CN="New%20England%20Film%20Orchestra":MAILTO:newenglandfilmorchestra@gmail.com
END:VEVENT
END:VCALENDAR