BEGIN:VCALENDAR
VERSION:2.0
PRODID:-//92.5 the River - ECPv5.16.3.1//NONSGML v1.0//EN
CALSCALE:GREGORIAN
METHOD:PUBLISH
X-WR-CALNAME:92.5 the River
X-ORIGINAL-URL:https://theriverboston.com
X-WR-CALDESC:Events for 92.5 the River
BEGIN:VTIMEZONE
TZID:America/New_York
BEGIN:DAYLIGHT
TZOFFSETFROM:-0500
TZOFFSETTO:-0400
TZNAME:EDT
DTSTART:20170312T070000
END:DAYLIGHT
BEGIN:STANDARD
TZOFFSETFROM:-0400
TZOFFSETTO:-0500
TZNAME:EST
DTSTART:20171105T060000
END:STANDARD
END:VTIMEZONE
BEGIN:VEVENT
DTSTART;VALUE=DATE:20170422
DTEND;VALUE=DATE:20170423
DTSTAMP:20260425T183736
CREATED:20170413T215655Z
LAST-MODIFIED:20170414T132613Z
UID:41456-1492819200-1492905599@theriverboston.com
SUMMARY:New England Home Show - Party at your Place!
DESCRIPTION:The River Roadies will be at the New England Home Show Saturday\, April 22nd at the Topsfield Fairgrounds! \nThe New England Home Show is where you’ll find a wide range of home improvement ideas on display. Over 500 experts are on hand to answer your burning DIY questions. Bring the kids and enjoy live cooking demonstrations\, furniture building zone and a craft and specialty food area! \nBut that’s not all… the River and Ipswich Clambake are teaming up to give away a “Party at your Place”! The only way for you to enter is to visit our River tent at the New England Home Show and sign-up. If you are the lucky winner\, the River Roadies and Dana Marshall will literally bring the party to your house (we’ll set up the tents and turn up the speakers)\, while Ipswich Clambake will bring the clams and food (enough for 25 people)! \nSo visit the River Roadies at the New England Home Show in Topsfield\, Saturday April 22nd to win a Party hosted by the River and Ipswich Clambake – get your clambake on!
URL:https://theriverboston.com/events/new-england-home-show-party-place/
LOCATION:Topsfield Fairgrounds\, 207 Boston Street\, Topsfield\, MA\, 01983\, United States
END:VEVENT
END:VCALENDAR