BEGIN:VCALENDAR
VERSION:2.0
PRODID:-//92.5 the River - ECPv5.16.3.1//NONSGML v1.0//EN
CALSCALE:GREGORIAN
METHOD:PUBLISH
X-WR-CALNAME:92.5 the River
X-ORIGINAL-URL:https://theriverboston.com
X-WR-CALDESC:Events for 92.5 the River
BEGIN:VTIMEZONE
TZID:America/New_York
BEGIN:DAYLIGHT
TZOFFSETFROM:-0500
TZOFFSETTO:-0400
TZNAME:EDT
DTSTART:20170312T070000
END:DAYLIGHT
BEGIN:STANDARD
TZOFFSETFROM:-0400
TZOFFSETTO:-0500
TZNAME:EST
DTSTART:20171105T060000
END:STANDARD
END:VTIMEZONE
BEGIN:VEVENT
DTSTART;VALUE=DATE:20170324
DTEND;VALUE=DATE:20170401
DTSTAMP:20260425T183634
CREATED:20170314T195017Z
LAST-MODIFIED:20170314T195017Z
UID:37684-1490313600-1491004799@theriverboston.com
SUMMARY:New Hampshire Restaurant Week 2017
DESCRIPTION:2017 NH Restaurant Week is Friday\, March 24th through Friday\, March 31st! \nRestaurant Week in New Hampshire features 3-course prix fixe menus for lunch and dinner from a variety of restaurants in all corners of New Hampshire. \nGet out and experience the fine cuisine the Granite State has to offer!
URL:https://theriverboston.com/events/new-hampshire-restaurant-week-2017/
END:VEVENT
END:VCALENDAR