BEGIN:VCALENDAR
VERSION:2.0
PRODID:-//92.5 the River - ECPv5.16.3.1//NONSGML v1.0//EN
CALSCALE:GREGORIAN
METHOD:PUBLISH
X-WR-CALNAME:92.5 the River
X-ORIGINAL-URL:https://theriverboston.com
X-WR-CALDESC:Events for 92.5 the River
BEGIN:VTIMEZONE
TZID:America/New_York
BEGIN:DAYLIGHT
TZOFFSETFROM:-0500
TZOFFSETTO:-0400
TZNAME:EDT
DTSTART:20160313T070000
END:DAYLIGHT
BEGIN:STANDARD
TZOFFSETFROM:-0400
TZOFFSETTO:-0500
TZNAME:EST
DTSTART:20161106T060000
END:STANDARD
END:VTIMEZONE
BEGIN:VEVENT
DTSTART;TZID=America/New_York:20160318T130000
DTEND;TZID=America/New_York:20160320T160000
DTSTAMP:20260420T092703
CREATED:20160111T195450Z
LAST-MODIFIED:20160111T195450Z
UID:9660-1458306000-1458489600@theriverboston.com
SUMMARY:NH Home Show
DESCRIPTION:The 49th Annual New Hampshire State Home Show!\nProduced by the professionals at the New Hampshire Home Builders Association this is the largest home show in NH!\n \nCome interact with builders\, remodelers\, decorators\, landscapers\, and all types of home solutions providers!  See the latest in home-related products and services!\nTo learn more click HERE!\n 
URL:https://theriverboston.com/events/nh-home-show/
END:VEVENT
END:VCALENDAR