BEGIN:VCALENDAR
VERSION:2.0
PRODID:-//92.5 the River - ECPv5.16.3.1//NONSGML v1.0//EN
CALSCALE:GREGORIAN
METHOD:PUBLISH
X-WR-CALNAME:92.5 the River
X-ORIGINAL-URL:https://theriverboston.com
X-WR-CALDESC:Events for 92.5 the River
BEGIN:VTIMEZONE
TZID:America/New_York
BEGIN:DAYLIGHT
TZOFFSETFROM:-0500
TZOFFSETTO:-0400
TZNAME:EDT
DTSTART:20250309T070000
END:DAYLIGHT
BEGIN:STANDARD
TZOFFSETFROM:-0400
TZOFFSETTO:-0500
TZNAME:EST
DTSTART:20251102T060000
END:STANDARD
END:VTIMEZONE
BEGIN:VEVENT
DTSTART;TZID=America/New_York:20250626T173000
DTEND;TZID=America/New_York:20250626T200000
DTSTAMP:20260419T084446
CREATED:20231219T144708Z
LAST-MODIFIED:20250508T144741Z
UID:222344-1750959000-1750968000@theriverboston.com
SUMMARY:NH Magazine's Annual BEST OF NH event 2025
DESCRIPTION:The Best of NH Party 2025 returns to Flag Hill Distillery and Winery on Thursday\, June 26 Sponsored in part by 92.5 The River to enjoy sampling of New Hampshire’s best food and drink while enjoying the sounds of Mica’s Groove Train. The event will be an elegant tent and garden party celebrating the best the state has to offer at one of NH’s most beautiful local treasures. Get your tickets today! \n  \nThursday\, June 26\, 2025\nGeneral admission: 6-8 p.m.\nEarly access: Starts at 5:30 p.m. \n\nFlag Hill Distillery and Winery\n297 North River Road\nLee\, New Hampshire \n  \nPlease be aware: this event is intended to be a 21+ event\, please be prepared to show your ID at event entry.
URL:https://theriverboston.com/events/nh-magazines-annual-best-of-nh-event-2025/
LOCATION:Flag Hill Distillery and Winery\, 297 North River Road\, Lee\, NH\, United States
END:VEVENT
END:VCALENDAR