BEGIN:VCALENDAR
VERSION:2.0
PRODID:-//92.5 the River - ECPv5.16.3.1//NONSGML v1.0//EN
CALSCALE:GREGORIAN
METHOD:PUBLISH
X-WR-CALNAME:92.5 the River
X-ORIGINAL-URL:https://theriverboston.com
X-WR-CALDESC:Events for 92.5 the River
BEGIN:VTIMEZONE
TZID:America/New_York
BEGIN:DAYLIGHT
TZOFFSETFROM:-0500
TZOFFSETTO:-0400
TZNAME:EDT
DTSTART:20210314T070000
END:DAYLIGHT
BEGIN:STANDARD
TZOFFSETFROM:-0400
TZOFFSETTO:-0500
TZNAME:EST
DTSTART:20211107T060000
END:STANDARD
END:VTIMEZONE
BEGIN:VEVENT
DTSTART;TZID=America/New_York:20211104T000000
DTEND;TZID=America/New_York:20211104T000000
DTSTAMP:20260421T083845
CREATED:20210621T184648Z
LAST-MODIFIED:20210621T184648Z
UID:213832-1635984000-1635984000@theriverboston.com
SUMMARY:Noah Kahan @ House of Blues
DESCRIPTION:The River Presents: Noah Kahan at the House of Blues\nThursday\, November 4\nWith the success of his 2017 single ‘Hurt Somebody\,’ excitement is in the air for the release of his album “I Was/I Am” due out this September. \nDon’t miss the Vermont native play the Boston House of Blues on November 4! \nKeep up with Noah!\nTWITTER | INSTAGRAM | FACEBOOK
URL:https://theriverboston.com/events/noah-kahan-house-of-blues/
LOCATION:House of Blues Boston\, 15 Landsdowne Street\, Boston\, MA\, 02215\, United States
ORGANIZER;CN="92.5%20the%20River":MAILTO:promotions@wxrv.com
END:VEVENT
END:VCALENDAR