BEGIN:VCALENDAR
VERSION:2.0
PRODID:-//92.5 the River - ECPv5.16.3.1//NONSGML v1.0//EN
CALSCALE:GREGORIAN
METHOD:PUBLISH
X-WR-CALNAME:92.5 the River
X-ORIGINAL-URL:https://theriverboston.com
X-WR-CALDESC:Events for 92.5 the River
BEGIN:VTIMEZONE
TZID:America/New_York
BEGIN:DAYLIGHT
TZOFFSETFROM:-0500
TZOFFSETTO:-0400
TZNAME:EDT
DTSTART:20170312T070000
END:DAYLIGHT
BEGIN:STANDARD
TZOFFSETFROM:-0400
TZOFFSETTO:-0500
TZNAME:EST
DTSTART:20171105T060000
END:STANDARD
END:VTIMEZONE
BEGIN:VEVENT
DTSTART;TZID=America/New_York:20170618T090000
DTEND;TZID=America/New_York:20170618T090000
DTSTAMP:20260425T085425
CREATED:20170615T172222Z
LAST-MODIFIED:20170615T172222Z
UID:47936-1497776400-1497776400@theriverboston.com
SUMMARY:North Shore YMCA Father's Day 5k &10k
DESCRIPTION:The River Roadies will be at the YMCA of The North Shore Father’s Day Race on Sunday\, June 18th at 9:00am! The Rockport Father’s Day 5k/10k has one of the best road race courses in New England! You can run\, walk\, or stroll along the coast! The River Street Team will be there to cheer you on and give away prizes! \nRegister here by June 16th!
URL:https://theriverboston.com/events/north-shore-ymca-fathers-day-5k-10k/
LOCATION:Rockport High School\, 24 Jerdens Lane\, Rockport\, MA\, 01966\, United States
END:VEVENT
END:VCALENDAR