BEGIN:VCALENDAR
VERSION:2.0
PRODID:-//92.5 the River - ECPv5.16.3.1//NONSGML v1.0//EN
CALSCALE:GREGORIAN
METHOD:PUBLISH
X-WR-CALNAME:92.5 the River
X-ORIGINAL-URL:https://theriverboston.com
X-WR-CALDESC:Events for 92.5 the River
BEGIN:VTIMEZONE
TZID:America/New_York
BEGIN:DAYLIGHT
TZOFFSETFROM:-0500
TZOFFSETTO:-0400
TZNAME:EDT
DTSTART:20170312T070000
END:DAYLIGHT
BEGIN:STANDARD
TZOFFSETFROM:-0400
TZOFFSETTO:-0500
TZNAME:EST
DTSTART:20171105T060000
END:STANDARD
END:VTIMEZONE
BEGIN:VEVENT
DTSTART;TZID=America/New_York:20170704T083000
DTEND;TZID=America/New_York:20170704T083000
DTSTAMP:20260424T155751
CREATED:20170615T173053Z
LAST-MODIFIED:20170615T173053Z
UID:47937-1499157000-1499157000@theriverboston.com
SUMMARY:North Shore YMCA Firecracker Four Mile
DESCRIPTION:Join the River Roadies at the Firecracker 4 Mile race on July 4 at 8:30am! Celebrate the Fourth with a 4 mile race and fun family day at the Lynch/Van Otterloo YMCA! Along with the race through Swampscott neighborhoods\, there will be music\, refreshments\, obstacle courses\, and a pool party! The River Street Team will also be there giving away cool prizes and cheering you on as you race! \nRegister here!
URL:https://theriverboston.com/events/north-shore-ymca-firecracker-four-mile/
LOCATION:Lynch/Van Otterloo YMCA\, 41 Leggs Hill Road\, Marblehead\, MA\, United States
END:VEVENT
END:VCALENDAR