BEGIN:VCALENDAR
VERSION:2.0
PRODID:-//92.5 the River - ECPv5.16.3.1//NONSGML v1.0//EN
CALSCALE:GREGORIAN
METHOD:PUBLISH
X-WR-CALNAME:92.5 the River
X-ORIGINAL-URL:https://theriverboston.com
X-WR-CALDESC:Events for 92.5 the River
BEGIN:VTIMEZONE
TZID:America/New_York
BEGIN:DAYLIGHT
TZOFFSETFROM:-0500
TZOFFSETTO:-0400
TZNAME:EDT
DTSTART:20210314T070000
END:DAYLIGHT
BEGIN:STANDARD
TZOFFSETFROM:-0400
TZOFFSETTO:-0500
TZNAME:EST
DTSTART:20211107T060000
END:STANDARD
END:VTIMEZONE
BEGIN:VEVENT
DTSTART;TZID=America/New_York:20211202T193000
DTEND;TZID=America/New_York:20211202T193000
DTSTAMP:20260420T002643
CREATED:20210916T174249Z
LAST-MODIFIED:20210916T174249Z
UID:214705-1638473400-1638473400@theriverboston.com
SUMMARY:NSMT's A Christmas Carol
DESCRIPTION:NSMT’s A Christmas Carol\nBUY TICKETS HERE\nSince 1989\, North Shore Music Theatre has been warming the hearts of many New Englanders with A Christmas Carol! Don’t miss out on this opportunity to feel the Christmas magic by listening to songs such as “God Rest Ye Merry Gentleman”\, “Here We Come A-Wassailing”\, and “We Wish You A Merry Christmas”. Additionally\, NSMT will be doing a ‘Tiny Tim’s Toy Drive’ collecting unwrapped and unopened gifts for children ages 2-12. Buy tickets now for the following dates: \nDecember 2nd @ 7:30pm \nDecember 3rd @ 7:30pm \nDecember 4th @ 2pm & 7:30pm \nDecember 5th @ 2pm \nDecember 1oth @ 7:30pm \nDecember 11th @ 2pm & 7:30pm \nDecember 12th @ 2pm \nDecember 17th @ 7:30pm \nDecember 18th @ 2:00pm & 7:30pm \nDecember 19th @ 2pm \nDecember 22nd @ 7:30pm \nDecember 23rd @ 7:30pm \nPlease note the theatres COVID-19 policies here…
URL:https://theriverboston.com/events/nsmts-a-christmas-carol/
LOCATION:North Shore Music Theatre\, 62 Dunham Road\, Beverly\, MA\, 01915\, United States
END:VEVENT
END:VCALENDAR