BEGIN:VCALENDAR
VERSION:2.0
PRODID:-//92.5 the River - ECPv5.16.3.1//NONSGML v1.0//EN
CALSCALE:GREGORIAN
METHOD:PUBLISH
X-WR-CALNAME:92.5 the River
X-ORIGINAL-URL:https://theriverboston.com
X-WR-CALDESC:Events for 92.5 the River
BEGIN:VTIMEZONE
TZID:America/New_York
BEGIN:DAYLIGHT
TZOFFSETFROM:-0500
TZOFFSETTO:-0400
TZNAME:EDT
DTSTART:20190310T070000
END:DAYLIGHT
BEGIN:STANDARD
TZOFFSETFROM:-0400
TZOFFSETTO:-0500
TZNAME:EST
DTSTART:20191103T060000
END:STANDARD
END:VTIMEZONE
BEGIN:VEVENT
DTSTART;TZID=America/New_York:20190908T193000
DTEND;TZID=America/New_York:20190908T193000
DTSTAMP:20260423T225141
CREATED:20190819T171757Z
LAST-MODIFIED:20190819T171757Z
UID:210266-1567971000-1567971000@theriverboston.com
SUMMARY:Of Monsters and Men at Rockland Trust Bank Pavilion
DESCRIPTION:Of Monsters and Men will be at the Rockland Bank Trust Pavilion in Boston on September 8. \nYou have the chance to win tickets to the show from 92.5 the River… Boston’s Independent Radio
URL:https://theriverboston.com/events/of-monsters-and-men-at-rockland-trust-bank-pavilion/
LOCATION:Rockland Trust Bank Pavilion\, 290 Northern Avenue\, Boston\, MA\, 02210\, United States
END:VEVENT
END:VCALENDAR