BEGIN:VCALENDAR
VERSION:2.0
PRODID:-//92.5 the River - ECPv5.16.3.1//NONSGML v1.0//EN
CALSCALE:GREGORIAN
METHOD:PUBLISH
X-WR-CALNAME:92.5 the River
X-ORIGINAL-URL:https://theriverboston.com
X-WR-CALDESC:Events for 92.5 the River
BEGIN:VTIMEZONE
TZID:America/New_York
BEGIN:DAYLIGHT
TZOFFSETFROM:-0500
TZOFFSETTO:-0400
TZNAME:EDT
DTSTART:20240310T070000
END:DAYLIGHT
BEGIN:STANDARD
TZOFFSETFROM:-0400
TZOFFSETTO:-0500
TZNAME:EST
DTSTART:20241103T060000
END:STANDARD
END:VTIMEZONE
BEGIN:VEVENT
DTSTART;TZID=America/New_York:20241026T140000
DTEND;TZID=America/New_York:20241026T170000
DTSTAMP:20260419T200215
CREATED:20241023T170207Z
LAST-MODIFIED:20241023T170314Z
UID:225408-1729951200-1729962000@theriverboston.com
SUMMARY:Oktoberfest Tasting Event @ Lighthouse Wine & Spirits
DESCRIPTION:  \nCelebrate Oktoberfest with Lighthouse Wine & Spirits! Sample a variety of great beers from lots of regional breweries.  Plus enjoy light bites and a fun selection of hand-crafted spirits and wines from around the world. Look for Lighthouse Wine & Spirits right next to Whole Foods in Beverly.  Cheers! \n 
URL:https://theriverboston.com/events/oktoberfest-tasting-lighthouse/
LOCATION:Lighthouse Wine & Spirits\, 144-9 Brimbal Avenue\, Beverly\, MA\, 01915\, United States
END:VEVENT
END:VCALENDAR