BEGIN:VCALENDAR
VERSION:2.0
PRODID:-//92.5 the River - ECPv5.16.3.1//NONSGML v1.0//EN
CALSCALE:GREGORIAN
METHOD:PUBLISH
X-WR-CALNAME:92.5 the River
X-ORIGINAL-URL:https://theriverboston.com
X-WR-CALDESC:Events for 92.5 the River
BEGIN:VTIMEZONE
TZID:America/New_York
BEGIN:DAYLIGHT
TZOFFSETFROM:-0500
TZOFFSETTO:-0400
TZNAME:EDT
DTSTART:20170312T070000
END:DAYLIGHT
BEGIN:STANDARD
TZOFFSETFROM:-0400
TZOFFSETTO:-0500
TZNAME:EST
DTSTART:20171105T060000
END:STANDARD
END:VTIMEZONE
BEGIN:VEVENT
DTSTART;TZID=America/New_York:20170504T130000
DTEND;TZID=America/New_York:20170504T130000
DTSTAMP:20260425T164838
CREATED:20170426T183548Z
LAST-MODIFIED:20170426T191007Z
UID:42768-1493902800-1493902800@theriverboston.com
SUMMARY:Old 97’s Coming to the River Music Hall!
DESCRIPTION:Kicking off the start of May with Old 97’s coming to the River Music Hall. Their performance is on Thursday May 4th at 1:00 pm before they head off to their show later that night at the Sinclair in Cambridge\, MA. \nThe only way in to the River Music Hall is to win tickets by visiting our  Tickets & Exclusive Offers page!
URL:https://theriverboston.com/events/old-97s-coming-river-music-hall/
END:VEVENT
END:VCALENDAR