BEGIN:VCALENDAR
VERSION:2.0
PRODID:-//92.5 the River - ECPv5.16.3.1//NONSGML v1.0//EN
CALSCALE:GREGORIAN
METHOD:PUBLISH
X-WR-CALNAME:92.5 the River
X-ORIGINAL-URL:https://theriverboston.com
X-WR-CALDESC:Events for 92.5 the River
BEGIN:VTIMEZONE
TZID:America/New_York
BEGIN:DAYLIGHT
TZOFFSETFROM:-0500
TZOFFSETTO:-0400
TZNAME:EDT
DTSTART:20230312T070000
END:DAYLIGHT
BEGIN:STANDARD
TZOFFSETFROM:-0400
TZOFFSETTO:-0500
TZNAME:EST
DTSTART:20231105T060000
END:STANDARD
END:VTIMEZONE
BEGIN:VEVENT
DTSTART;TZID=America/New_York:20231117T200000
DTEND;TZID=America/New_York:20231117T200000
DTSTAMP:20260424T224822
CREATED:20231101T210320Z
LAST-MODIFIED:20231101T210320Z
UID:221857-1700251200-1700251200@theriverboston.com
SUMMARY:One Night of Queen at Lowell Memorial Auditorium
DESCRIPTION:BUY TICKETS HERE\nONE NIGHT OF QUEEN – PERFORMED BY GARY MULLEN & THE WORKS\nIn 2000\, British singer Gary Mullen won ITV’s talent competition “Stars In Their Eyes\,” and soon after\, began touring with his band ‘The Works’ to pay tribute to rock legends Queen. Since 2002\, ‘Gary Mullen and the Works’ have performed ONE NIGHT OF QUEEN throughout the UK\, USA\, Europe\, South Africa\, & New Zealand to sell-out audiences\, perfectly recreating the sound and spirit\, the pomp and showmanship\, of Freddie Mercury\, Brian May\, Roger Taylor\, and John Deacon’s greatest hits. ONE NIGHT OF QUEEN will ROCK you! \n\nHelpful Links: \n\nMore about One Night of Queen\nMore Upcoming Events at Lowell Auditorium
URL:https://theriverboston.com/events/one-night-of-queen-lowell-memorial-auditorium2023/
LOCATION:Lowell Memorial Auditorium\, 50 E. Merrimack Street\, Lowell\, MA\, 01852\, United States
ORGANIZER;CN="Spectacle%20Live":MAILTO:info@spectaclemanagement.net
END:VEVENT
END:VCALENDAR