BEGIN:VCALENDAR
VERSION:2.0
PRODID:-//92.5 the River - ECPv5.16.3.1//NONSGML v1.0//EN
CALSCALE:GREGORIAN
METHOD:PUBLISH
X-WR-CALNAME:92.5 the River
X-ORIGINAL-URL:https://theriverboston.com
X-WR-CALDESC:Events for 92.5 the River
BEGIN:VTIMEZONE
TZID:America/New_York
BEGIN:DAYLIGHT
TZOFFSETFROM:-0500
TZOFFSETTO:-0400
TZNAME:EDT
DTSTART:20180311T070000
END:DAYLIGHT
BEGIN:STANDARD
TZOFFSETFROM:-0400
TZOFFSETTO:-0500
TZNAME:EST
DTSTART:20181104T060000
END:STANDARD
END:VTIMEZONE
BEGIN:VEVENT
DTSTART;TZID=America/New_York:20180921T150000
DTEND;TZID=America/New_York:20180921T220000
DTSTAMP:20260422T172935
CREATED:20180404T134957Z
LAST-MODIFIED:20180404T205832Z
UID:80958-1537542000-1537567200@theriverboston.com
SUMMARY:Outlaw Music Festival
DESCRIPTION:Outlaw Music Festival 2018\nOutlaw Music Festival is coming back around to the XFINITY Center on September 21st! \nFeaturing: Willie Nelson & Family\, Sturgill Simpson\, Nathaniel Rateliff & the Night Sweats\, Margo Price\, Lukas Nelson + Promise of the Real\, Particle Kid\, and others to be announced. \nThe inaugural Outlaw Music Festival made its debut in 2016 in Scranton\, PA featuring Willie Nelson & Family\, Neil Young + Promise of the Real\, Sheryl Crow\, Chris Robinson Brotherhood\, Lee Ann Womack\, and Cabinet. The sold-out show was so well received that Blackbird and Nelson decided to take their band of outlaws on the road as a touring festival in 2017. Last year\, the Outlaw Music Festival Tour hosted more than 100\,000 fans in amphitheaters and arenas all over the country. From Willie Nelson to Bob Dylan to Eric Church to The Avett Brothers\, fans shared unforgettable music memories and enjoyed unique vendor villages with local food\, drinks\, and shopping. VIP ticket-holders got a front row experience and exclusive merchandise. Outlaw Music Festival Tour 2018 is presented by Southern Comfort. \nTickets go on sale Friday\, 4/6 at noon\, but you can also win your way in from the River.
URL:https://theriverboston.com/events/outlaw-music-festival/
LOCATION:Xfinity Center\, 885 S Main St\, Mansfield \, MA\, 02048\, United States
END:VEVENT
END:VCALENDAR