BEGIN:VCALENDAR
VERSION:2.0
PRODID:-//92.5 the River - ECPv5.16.3.1//NONSGML v1.0//EN
CALSCALE:GREGORIAN
METHOD:PUBLISH
X-WR-CALNAME:92.5 the River
X-ORIGINAL-URL:https://theriverboston.com
X-WR-CALDESC:Events for 92.5 the River
BEGIN:VTIMEZONE
TZID:America/New_York
BEGIN:DAYLIGHT
TZOFFSETFROM:-0500
TZOFFSETTO:-0400
TZNAME:EDT
DTSTART:20160313T070000
END:DAYLIGHT
BEGIN:STANDARD
TZOFFSETFROM:-0400
TZOFFSETTO:-0500
TZNAME:EST
DTSTART:20161106T060000
END:STANDARD
END:VTIMEZONE
BEGIN:VEVENT
DTSTART;TZID=America/New_York:20161014T073000
DTEND;TZID=America/New_York:20161014T093000
DTSTAMP:20260422T224511
CREATED:20161004T154255Z
LAST-MODIFIED:20161004T154255Z
UID:21545-1476430200-1476437400@theriverboston.com
SUMMARY:Park and Pedal Newton Launch
DESCRIPTION:Non profit organization Park&Pedal is proud to announce that they are expanding their area of operations outward from Boston and are hosting an event in Albemarle Park In Newton MA. \nJoin in on the fun on October 14th to learn more about this one of a kind service\, and one lucky winner will be walking away with a bike provided by Montague bikes
URL:https://theriverboston.com/events/park-pedal-newton-launch/
LOCATION:Albemarle Park\, Albemarle Rd\, Newton\, MA\, 02460\, United States
END:VEVENT
END:VCALENDAR