BEGIN:VCALENDAR
VERSION:2.0
PRODID:-//92.5 the River - ECPv5.16.3.1//NONSGML v1.0//EN
CALSCALE:GREGORIAN
METHOD:PUBLISH
X-WR-CALNAME:92.5 the River
X-ORIGINAL-URL:https://theriverboston.com
X-WR-CALDESC:Events for 92.5 the River
BEGIN:VTIMEZONE
TZID:America/New_York
BEGIN:DAYLIGHT
TZOFFSETFROM:-0500
TZOFFSETTO:-0400
TZNAME:EDT
DTSTART:20170312T070000
END:DAYLIGHT
BEGIN:STANDARD
TZOFFSETFROM:-0400
TZOFFSETTO:-0500
TZNAME:EST
DTSTART:20171105T060000
END:STANDARD
END:VTIMEZONE
BEGIN:VEVENT
DTSTART;TZID=America/New_York:20170719T200000
DTEND;TZID=America/New_York:20170719T200000
DTSTAMP:20260423T150145
CREATED:20170327T175126Z
LAST-MODIFIED:20170327T175126Z
UID:38857-1500494400-1500494400@theriverboston.com
SUMMARY:Pat Benatar & Neil Giraldo at Casino Ballroom
DESCRIPTION:Pat Benatar and Neil Giraldo\, the rock ‘n’ roll couple\, will be coming to the Hampton Beach Casino Ballroom on Wednesday\, July 19th.  \nPat and Neil were introduced in 1978 and have been making incredible music since. With Benatar already on her way to success\, Giraldo helped her develop her signature sound with his music direction. Benatar has won multiple Grammy’s with the help of Giraldo. \nThe musical match made in heaven puts on a high energy show that will thrill the audience. For over three decades these rock ‘n’ roll legends have been performing with chemistry like no other. Their signature sound and performance makes a thrilling\, classic show!
URL:https://theriverboston.com/events/pat-benatar-neil-giraldo-casino-ballroom/
LOCATION:Casino Ballroom\, 169 Ocean Boulevard\, Hampton\, NH\, 03842\, United States
END:VEVENT
END:VCALENDAR