BEGIN:VCALENDAR
VERSION:2.0
PRODID:-//92.5 the River - ECPv5.16.3.1//NONSGML v1.0//EN
CALSCALE:GREGORIAN
METHOD:PUBLISH
X-WR-CALNAME:92.5 the River
X-ORIGINAL-URL:https://theriverboston.com
X-WR-CALDESC:Events for 92.5 the River
BEGIN:VTIMEZONE
TZID:America/New_York
BEGIN:DAYLIGHT
TZOFFSETFROM:-0500
TZOFFSETTO:-0400
TZNAME:EDT
DTSTART:20170312T070000
END:DAYLIGHT
BEGIN:STANDARD
TZOFFSETFROM:-0400
TZOFFSETTO:-0500
TZNAME:EST
DTSTART:20171105T060000
END:STANDARD
END:VTIMEZONE
BEGIN:VEVENT
DTSTART;TZID=America/New_York:20170907T200000
DTEND;TZID=America/New_York:20170907T220000
DTSTAMP:20260419T125309
CREATED:20170906T134148Z
LAST-MODIFIED:20170906T134148Z
UID:55261-1504814400-1504821600@theriverboston.com
SUMMARY:Patriots Kick-off Party!
DESCRIPTION:The day is finally here!! Join the River Roadies and Matt Phipps at the Carriage Towne Bar and Grille in Kingston\, NH as the five-time Super Bowl Champions kick-off the regular season! Enjoy specials on Bud and Bud Lite throughout the game\, and register to win tickets to a patriots game this season\, courtesy of Bud Lite. We’ll also be giving away tickets to see Arcade Fire at the TD Garden – so be sure to stop by and watch the Pats take on the Chiefs at Carriage Towne Bar and Grille. GO PATS! \n\n 
URL:https://theriverboston.com/events/patriots-kick-off-party/
LOCATION:Carriage Towne Bar and Grille\, 53 Church Street\, Kingston\, NH\, 03848\, United States
END:VEVENT
END:VCALENDAR