BEGIN:VCALENDAR
VERSION:2.0
PRODID:-//92.5 the River - ECPv5.16.3.1//NONSGML v1.0//EN
CALSCALE:GREGORIAN
METHOD:PUBLISH
X-WR-CALNAME:92.5 the River
X-ORIGINAL-URL:https://theriverboston.com
X-WR-CALDESC:Events for 92.5 the River
BEGIN:VTIMEZONE
TZID:America/New_York
BEGIN:DAYLIGHT
TZOFFSETFROM:-0500
TZOFFSETTO:-0400
TZNAME:EDT
DTSTART:20180311T070000
END:DAYLIGHT
BEGIN:STANDARD
TZOFFSETFROM:-0400
TZOFFSETTO:-0500
TZNAME:EST
DTSTART:20181104T060000
END:STANDARD
END:VTIMEZONE
BEGIN:VEVENT
DTSTART;TZID=America/New_York:20180804T200000
DTEND;TZID=America/New_York:20180804T200000
DTSTAMP:20260420T170008
CREATED:20180724T154327Z
LAST-MODIFIED:20180724T154327Z
UID:108719-1533412800-1533412800@theriverboston.com
SUMMARY:Patty Larkin Live at the Loft
DESCRIPTION:Patty Larkin is coming to the Music Hall Loft!\n Singer/songwriter Patty Larkin will be live at The Music Hall Loft on Saturday\, August 4th at 8pm. \nLarkin mixes a tasteful blend of folk\, urban and pop music\, and released her first album\, Still Green\, in 2013. It’s going to be a great show! \n 
URL:https://theriverboston.com/events/patty-larkin-live-at-the-loft/
LOCATION:The Music Hall\, 28 Chestnut Street\, Portsmouth\, NH\, 03801\, United States
END:VEVENT
END:VCALENDAR