BEGIN:VCALENDAR
VERSION:2.0
PRODID:-//92.5 the River - ECPv5.16.3.1//NONSGML v1.0//EN
CALSCALE:GREGORIAN
METHOD:PUBLISH
X-WR-CALNAME:92.5 the River
X-ORIGINAL-URL:https://theriverboston.com
X-WR-CALDESC:Events for 92.5 the River
BEGIN:VTIMEZONE
TZID:America/New_York
BEGIN:DAYLIGHT
TZOFFSETFROM:-0500
TZOFFSETTO:-0400
TZNAME:EDT
DTSTART:20190310T070000
END:DAYLIGHT
BEGIN:STANDARD
TZOFFSETFROM:-0400
TZOFFSETTO:-0500
TZNAME:EST
DTSTART:20191103T060000
END:STANDARD
END:VTIMEZONE
BEGIN:VEVENT
DTSTART;TZID=America/New_York:20191108T200000
DTEND;TZID=America/New_York:20191108T220000
DTSTAMP:20260422T005741
CREATED:20190628T153851Z
LAST-MODIFIED:20191003T174547Z
UID:209604-1573243200-1573250400@theriverboston.com
SUMMARY:Paul Beaubrun at The Music Hall Loft!
DESCRIPTION:A scion of Haitian musical royalty\, Paul has spent his life living to the beat. Son of Theodore and Mimerose Beaubrun of the Grammy-nominated Haitian band Boukman Eksperyans\, his earliest memories are of rhythm and sound. Moving to New York as a youth\, he was inspired by his heritage to begin crafting a sound all his own. Constantly aware of his roots\, the struggle of an immigrant\, and the drive of New York life\, Paul began to create a path where music\, activism\, and history meet. \nPart of the Live at the Loft series\, tickets go on sale July 6th!
URL:https://theriverboston.com/events/paul-beaubrun-at-the-music-hall-loft/
LOCATION:The Music Hall\, 28 Chestnut Street\, Portsmouth\, NH\, 03801\, United States
END:VEVENT
END:VCALENDAR