BEGIN:VCALENDAR
VERSION:2.0
PRODID:-//92.5 the River - ECPv5.16.3.1//NONSGML v1.0//EN
CALSCALE:GREGORIAN
METHOD:PUBLISH
X-WR-CALNAME:92.5 the River
X-ORIGINAL-URL:https://theriverboston.com
X-WR-CALDESC:Events for 92.5 the River
BEGIN:VTIMEZONE
TZID:America/New_York
BEGIN:DAYLIGHT
TZOFFSETFROM:-0500
TZOFFSETTO:-0400
TZNAME:EDT
DTSTART:20160313T070000
END:DAYLIGHT
BEGIN:STANDARD
TZOFFSETFROM:-0400
TZOFFSETTO:-0500
TZNAME:EST
DTSTART:20161106T060000
END:STANDARD
END:VTIMEZONE
BEGIN:VEVENT
DTSTART;TZID=America/New_York:20161109T193000
DTEND;TZID=America/New_York:20161109T193000
DTSTAMP:20260424T051044
CREATED:20161024T145029Z
LAST-MODIFIED:20161024T152438Z
UID:24129-1478719800-1478719800@theriverboston.com
SUMMARY:Pet Shop Boys @ The Orpheum Theatre
DESCRIPTION:Pet Shop Boys\n@ The Orpheum Theatre\nSee the biggest band to come out of the synth-pop era\, Pet Shop Boys! They will be playing at the Orpheum Theatre on Wednesday\, November 9th and you’ll be dancing along with them. Get your tickets today to join the party! \nEnter our contest to win these tickets!
URL:https://theriverboston.com/events/pet-shop-boys-orpheum-theatre/
LOCATION:Orpheum Theatre\, 1 Hamilton Place\, Boston\, MA\, 02108\, United States
END:VEVENT
END:VCALENDAR