BEGIN:VCALENDAR
VERSION:2.0
PRODID:-//92.5 the River - ECPv5.16.3.1//NONSGML v1.0//EN
CALSCALE:GREGORIAN
METHOD:PUBLISH
X-WR-CALNAME:92.5 the River
X-ORIGINAL-URL:https://theriverboston.com
X-WR-CALDESC:Events for 92.5 the River
BEGIN:VTIMEZONE
TZID:America/New_York
BEGIN:DAYLIGHT
TZOFFSETFROM:-0500
TZOFFSETTO:-0400
TZNAME:EDT
DTSTART:20210314T070000
END:DAYLIGHT
BEGIN:STANDARD
TZOFFSETFROM:-0400
TZOFFSETTO:-0500
TZNAME:EST
DTSTART:20211107T060000
END:STANDARD
END:VTIMEZONE
BEGIN:VEVENT
DTSTART;TZID=America/New_York:20210926T200000
DTEND;TZID=America/New_York:20210926T200000
DTSTAMP:20260422T093449
CREATED:20210712T180933Z
LAST-MODIFIED:20210712T180933Z
UID:214079-1632686400-1632686400@theriverboston.com
SUMMARY:Phoebe Bridgers @ Leader Bank Pavilion
DESCRIPTION:Don’t miss Phoebe Bridgers with special guest MUNA Live at Leader Bank Pavilion\nConcert starts at 8 PM. \nFinally returning to the stage to perform her Grammy-nominated album\, Punisher\, Phoebe Bridgers comes to Boston on Sunday\, September 26th at the Leader Bank Pavilion! Tickets go on sale Friday\, July 16th at 10 AM\, but you could win your way in for free now! \nCLICK HERE to purchase tickets! \nCLICK HERE to win tickets! \nClick For All Things Phoebe Bridgers | Facebook | Twitter | Instagram \nPresented by:
URL:https://theriverboston.com/events/phoebe-bridgers-leader-bank-pavilion/
LOCATION:Leader Bank Pavilion\, 290 Northern Ave\, Boston\, MA\, 02210\, United States
END:VEVENT
END:VCALENDAR