BEGIN:VCALENDAR
VERSION:2.0
PRODID:-//92.5 the River - ECPv5.16.3.1//NONSGML v1.0//EN
CALSCALE:GREGORIAN
METHOD:PUBLISH
X-WR-CALNAME:92.5 the River
X-ORIGINAL-URL:https://theriverboston.com
X-WR-CALDESC:Events for 92.5 the River
BEGIN:VTIMEZONE
TZID:America/New_York
BEGIN:DAYLIGHT
TZOFFSETFROM:-0500
TZOFFSETTO:-0400
TZNAME:EDT
DTSTART:20220313T070000
END:DAYLIGHT
BEGIN:STANDARD
TZOFFSETFROM:-0400
TZOFFSETTO:-0500
TZNAME:EST
DTSTART:20221106T060000
END:STANDARD
END:VTIMEZONE
BEGIN:VEVENT
DTSTART;TZID=America/New_York:20220205T200000
DTEND;TZID=America/New_York:20220205T200000
DTSTAMP:20260420T135835
CREATED:20220111T201315Z
LAST-MODIFIED:20220111T201315Z
UID:215509-1644091200-1644091200@theriverboston.com
SUMMARY:Pink Talking Fish Winter Carnival @ The Historic Theater
DESCRIPTION:Don’t Miss The Pink Talking Fish Winter Carnival in Portsmouth\, NH!\n\n  \nAs apart of a two day festival\, this Hybrid Tribute Fusion Act is coming to The Historic Theater! On Saturday\, February 5\, Pink Talking Fish will combine 3 of the most beloved bands of all time\, Pink Floyd\, The Talking Heads\, and Phish! The Following Day\, Sunday February 6th\, Pink Talking Fish will be hosting a show just for kids! \nPink Talking Fish Masterfully combines three musical phenomenon with their own their own entertaining and fascinating performances. The epic emotion of Pink Floyd…the funky\, danceable layering of The Talking Heads…the multitude of styles\, unique compositional structures\, and pure fun of Phish—to merge these three into one gives music lovers a special experience. Don’t miss out on their performance in Portsmouth\, NH! \nFor more information on their 2 day special\, click here. \nCOVID-19 Policy: Before entering the building\, everyone must wear masks\, per the City of Portsmouth mandate\, in addition to showing proof of vaccination OR a negative test for live events. \n  \n 
URL:https://theriverboston.com/events/pink-talking-fish-winter-carnival-the-historic-theater/
LOCATION:The Historic Theater\, 28 Chestnut Street\, Portsmouth\, NH\, 03801\, United States
END:VEVENT
END:VCALENDAR