BEGIN:VCALENDAR
VERSION:2.0
PRODID:-//92.5 the River - ECPv5.16.3.1//NONSGML v1.0//EN
CALSCALE:GREGORIAN
METHOD:PUBLISH
X-WR-CALNAME:92.5 the River
X-ORIGINAL-URL:https://theriverboston.com
X-WR-CALDESC:Events for 92.5 the River
BEGIN:VTIMEZONE
TZID:America/New_York
BEGIN:DAYLIGHT
TZOFFSETFROM:-0500
TZOFFSETTO:-0400
TZNAME:EDT
DTSTART:20170312T070000
END:DAYLIGHT
BEGIN:STANDARD
TZOFFSETFROM:-0400
TZOFFSETTO:-0500
TZNAME:EST
DTSTART:20171105T060000
END:STANDARD
END:VTIMEZONE
BEGIN:VEVENT
DTSTART;TZID=America/New_York:20170311T100000
DTEND;TZID=America/New_York:20170311T140000
DTSTAMP:20260425T202149
CREATED:20170308T172218Z
LAST-MODIFIED:20170308T172534Z
UID:37395-1489226400-1489240800@theriverboston.com
SUMMARY:Polar Seltzer's Orson Open
DESCRIPTION:Join the River Roadies at Wachusett Mountain on Saturday\, March 11th from 10:00 am – 2:00 pm for the Orson Open – brought to you by Polar Seltzer! Enjoy a day of skiing\, games and music. There will be live performances by blues Americana singer Julie Rhodes\, and progressive folk band Honeysuckle. Spin our prize-wheel and sign up to win concert tickets! \nWe’ll see you at the Orson Open!
URL:https://theriverboston.com/events/polar-seltzers-orson-open/
LOCATION:Wachusett Mountain\, 499 Mountain Road\, Princeton\, MA\, 01541\, United States
END:VEVENT
END:VCALENDAR