BEGIN:VCALENDAR
VERSION:2.0
PRODID:-//92.5 the River - ECPv5.16.3.1//NONSGML v1.0//EN
CALSCALE:GREGORIAN
METHOD:PUBLISH
X-WR-CALNAME:92.5 the River
X-ORIGINAL-URL:https://theriverboston.com
X-WR-CALDESC:Events for 92.5 the River
BEGIN:VTIMEZONE
TZID:America/New_York
BEGIN:DAYLIGHT
TZOFFSETFROM:-0500
TZOFFSETTO:-0400
TZNAME:EDT
DTSTART:20160313T070000
END:DAYLIGHT
BEGIN:STANDARD
TZOFFSETFROM:-0400
TZOFFSETTO:-0500
TZNAME:EST
DTSTART:20161106T060000
END:STANDARD
END:VTIMEZONE
BEGIN:VEVENT
DTSTART;TZID=America/New_York:20161001T110000
DTEND;TZID=America/New_York:20161001T160000
DTSTAMP:20260422T051730
CREATED:20160906T202228Z
LAST-MODIFIED:20170106T162713Z
UID:19802-1475319600-1475337600@theriverboston.com
SUMMARY:Powder Keg Beer & Chili Festival
DESCRIPTION:Come out for the 5th Annual Powder Keg Beer & Chili Festival in Swasey Parkway in downtown Exeter! Taste local brews and delicious chili from dozens of vendors. \nTo purchase tickets click here!
URL:https://theriverboston.com/events/powder-keg-beer-chili-festival/
LOCATION:Swasey Parkway\, Swasey Parkway\, Exeter\, NH\, 03833\, United States
END:VEVENT
END:VCALENDAR