BEGIN:VCALENDAR
VERSION:2.0
PRODID:-//92.5 the River - ECPv5.16.3.1//NONSGML v1.0//EN
CALSCALE:GREGORIAN
METHOD:PUBLISH
X-WR-CALNAME:92.5 the River
X-ORIGINAL-URL:https://theriverboston.com
X-WR-CALDESC:Events for 92.5 the River
BEGIN:VTIMEZONE
TZID:America/New_York
BEGIN:DAYLIGHT
TZOFFSETFROM:-0500
TZOFFSETTO:-0400
TZNAME:EDT
DTSTART:20210314T070000
END:DAYLIGHT
BEGIN:STANDARD
TZOFFSETFROM:-0400
TZOFFSETTO:-0500
TZNAME:EST
DTSTART:20211107T060000
END:STANDARD
END:VTIMEZONE
BEGIN:VEVENT
DTSTART;TZID=America/New_York:20211218T193000
DTEND;TZID=America/New_York:20211218T193000
DTSTAMP:20260419T153646
CREATED:20211207T182245Z
LAST-MODIFIED:20211207T182245Z
UID:215369-1639855800-1639855800@theriverboston.com
SUMMARY:Puddles Pity Party @ Capitol Center for the Arts
DESCRIPTION:Puddles Pity Party\nCapitol Center for the Arts\nSaturday\, December 18th | 7:30pm\nTickets on sale now! \nIn 2020\, with touring cancelled\, Puddles holed up in his studio and produced 12 episodes of his “Still Sequestered” show which featured a variety of special guests like Jack Black\, Penn Jillette\, Howie Mandel\, E (from Eels)\, Weird Al\, Sid Krofft\, Michael Stipe\, Patton Oswalt\, Cait O’Riordan\, Neil Hamburger\, David Dastmalchian\, Mastodon\, Tim Heidecker and artist Mark Ryden. Nothing makes Puddles less dejected than performing in front of a live audience of the best fans any sad clown could ask for. He is beyond excited to get back on the road and bring his all new “Unsequestered Show” to his favorite venues! SHOW INFO
URL:https://theriverboston.com/events/puddles-pity-party-capitol-center-for-the-arts/
LOCATION:Capitol Center for the Arts\, 44 South Main Street\, Concord\, NH\, 03301\, United States
END:VEVENT
END:VCALENDAR