BEGIN:VCALENDAR
VERSION:2.0
PRODID:-//92.5 the River - ECPv5.16.3.1//NONSGML v1.0//EN
CALSCALE:GREGORIAN
METHOD:PUBLISH
X-WR-CALNAME:92.5 the River
X-ORIGINAL-URL:https://theriverboston.com
X-WR-CALDESC:Events for 92.5 the River
BEGIN:VTIMEZONE
TZID:America/New_York
BEGIN:DAYLIGHT
TZOFFSETFROM:-0500
TZOFFSETTO:-0400
TZNAME:EDT
DTSTART:20220313T070000
END:DAYLIGHT
BEGIN:STANDARD
TZOFFSETFROM:-0400
TZOFFSETTO:-0500
TZNAME:EST
DTSTART:20221106T060000
END:STANDARD
END:VTIMEZONE
BEGIN:VEVENT
DTSTART;TZID=America/New_York:20220303T193000
DTEND;TZID=America/New_York:20220303T193000
DTSTAMP:20260421T023926
CREATED:20210930T174553Z
LAST-MODIFIED:20210930T174553Z
UID:214811-1646335800-1646335800@theriverboston.com
SUMMARY:Punch Brothers @ the Orpheum Theatre 3/3
DESCRIPTION:Come see the Punch Brothers perform at the Orpheum Theatre 3/3/2022!\nBUY TICKETS HERE\nLooking for a way to spend your Thursday night? Enjoy live music performed by Punch Brothers. Mandolinist Chris Thile\, guitarist Christ Eldridge\, bassist Paul Kowert\, banjoist Noam Pikelny\, and violinist Gabe Witcher come together for a night of fun and amazing music! \nCOVID-19 POLICY: The Event Organizer is requiring all attendees of this event to have received a negative COVID-19 test within 72-hours prior to entering the venue\, OR be fully vaccinated against COVID-19. In attending the event\, you certify and attest that you and all individuals in your party attending the event will abide by the following regulations: All fans will provide printed proof of a negative COVID-19 test within 72-hours prior to entering the venue\, OR be fully vaccinated against COVID-19 (at least two weeks after final dose) and provide printed documentation providing proof of immunization. Unvaccinated fans under 12 years of age will be required to take a COVID-19 diagnostic test within 72-hours before the event and will provide proof of negative result prior to entering the venue. Entry requirements and venue protocols are subject to change.
URL:https://theriverboston.com/events/punch-brothers-the-orpheum-theatre-3-3/
LOCATION:Orpheum Theatre\, 1 Hamilton Place\, Boston\, MA\, 02108\, United States
END:VEVENT
END:VCALENDAR