BEGIN:VCALENDAR
VERSION:2.0
PRODID:-//92.5 the River - ECPv5.16.3.1//NONSGML v1.0//EN
CALSCALE:GREGORIAN
METHOD:PUBLISH
X-WR-CALNAME:92.5 the River
X-ORIGINAL-URL:https://theriverboston.com
X-WR-CALDESC:Events for 92.5 the River
BEGIN:VTIMEZONE
TZID:America/New_York
BEGIN:DAYLIGHT
TZOFFSETFROM:-0500
TZOFFSETTO:-0400
TZNAME:EDT
DTSTART:20150308T070000
END:DAYLIGHT
BEGIN:STANDARD
TZOFFSETFROM:-0400
TZOFFSETTO:-0500
TZNAME:EST
DTSTART:20151101T060000
END:STANDARD
END:VTIMEZONE
BEGIN:VEVENT
DTSTART;TZID=America/New_York:20150816T100000
DTEND;TZID=America/New_York:20150816T160000
DTSTAMP:20260420T002512
CREATED:20150806T151101Z
LAST-MODIFIED:20150806T151101Z
UID:8130-1439719200-1439740800@theriverboston.com
SUMMARY:PurpleStride Family-Friendly Walk
DESCRIPTION:PurpleStride at Boston Commons\n\n  \nJoin PurpleStride at The Boston Commons and help make strides against pancreatic cancer. Enjoy a day filled with a 1- or 3-mile family-friendly walk\, children’s activities\, music\, refreshments\, the ShopPurple store\, and more! \nJoin the fight of pancreatic cancer with PancanBoston at #PurpleStride. Register NOW! Check out PurpleStride’s event info here. \n  \nDetails\nWhen: Sunday\, August 16th \nWhere: Boston Common- Parkman Bandstand \n– Registration opens at 10am & Opening Ceremonies/Walk Start at 11am \n 
URL:https://theriverboston.com/events/purplestride/
LOCATION:Boston Common\, 131 Tremont St\, Boston\, MA\, 02111\, United States
END:VEVENT
END:VCALENDAR