BEGIN:VCALENDAR
VERSION:2.0
PRODID:-//92.5 the River - ECPv5.16.3.1//NONSGML v1.0//EN
CALSCALE:GREGORIAN
METHOD:PUBLISH
X-WR-CALNAME:92.5 the River
X-ORIGINAL-URL:https://theriverboston.com
X-WR-CALDESC:Events for 92.5 the River
BEGIN:VTIMEZONE
TZID:America/New_York
BEGIN:DAYLIGHT
TZOFFSETFROM:-0500
TZOFFSETTO:-0400
TZNAME:EDT
DTSTART:20170312T070000
END:DAYLIGHT
BEGIN:STANDARD
TZOFFSETFROM:-0400
TZOFFSETTO:-0500
TZNAME:EST
DTSTART:20171105T060000
END:STANDARD
END:VTIMEZONE
BEGIN:VEVENT
DTSTART;TZID=America/New_York:20170211T140000
DTEND;TZID=America/New_York:20170211T170000
DTSTAMP:20260425T215555
CREATED:20170126T193504Z
LAST-MODIFIED:20170131T190046Z
UID:33340-1486821600-1486832400@theriverboston.com
SUMMARY:Ragged Mountain Deal Day And Apres Party!
DESCRIPTION:The River is teaming up with Ride & Ski Card at Ragged Mountain on Saturday\, February 11th.\nJoin  Ride & Ski Card for a 2-for-1 deal on lift tickets ALL DAY LONG when you show your card! \nThere will also be an apres-ski party in the bar from 2:00-5:00 pm!\nEnjoy the slopes! \n***** \nThis is a Regency Spells Relief Qualifying Event! \n \nRegency Mortgage and the River will be qualifying 92 lucky individuals for ONE ROLL of he dice on April 15th. If you qualify for the finals – and your dice spell out REGENCY – you’ll win $250\,000 cash in the REGENCY SPELLS RELIEF Dice Roll contest\, as we try to make Tax Day less taxing for one lucky person! For details on qualifying events or to enter for your chance to be selected as a qualifier visit: http://www.RegencySpellsRelief.com. \nFor years Regency Mortgage has made the process of financing or refinancing home mortgages less taxing. Contact them today for a quote and see how much you can save on your mortgage payment. Visit: http://www.RegencyMTG.com. \nNOTE: Qualifiers must appear in person and may not substitute another individual in your place. Please Note: If you cannot be present at the finals event in Manchester\, NH on Saturday April 15th from noon-4:00 pm your chance to roll the dice is not transferable!
URL:https://theriverboston.com/events/ragged-mountain-deal-days-apres-party/
LOCATION:Ragged Mountain Resort\, 620 Ragged Mountain Rd \, Danbury\, NH\, 03230\, United States
END:VEVENT
END:VCALENDAR