BEGIN:VCALENDAR
VERSION:2.0
PRODID:-//92.5 the River - ECPv5.16.3.1//NONSGML v1.0//EN
CALSCALE:GREGORIAN
METHOD:PUBLISH
X-WR-CALNAME:92.5 the River
X-ORIGINAL-URL:https://theriverboston.com
X-WR-CALDESC:Events for 92.5 the River
BEGIN:VTIMEZONE
TZID:America/New_York
BEGIN:DAYLIGHT
TZOFFSETFROM:-0500
TZOFFSETTO:-0400
TZNAME:EDT
DTSTART:20180311T070000
END:DAYLIGHT
BEGIN:STANDARD
TZOFFSETFROM:-0400
TZOFFSETTO:-0500
TZNAME:EST
DTSTART:20181104T060000
END:STANDARD
END:VTIMEZONE
BEGIN:VEVENT
DTSTART;TZID=America/New_York:20180831T200000
DTEND;TZID=America/New_York:20180831T230000
DTSTAMP:20260422T122328
CREATED:20180822T153943Z
LAST-MODIFIED:20180822T153943Z
UID:113035-1535745600-1535756400@theriverboston.com
SUMMARY:Regency Mortgage and 92.5 the River Presents Will Dailey @ Firehouse Center for the Arts!
DESCRIPTION:Win tickets to \nWill Dailey\n\nFirehouse Center for the Arts \n\n\nEnter to win tickets to\nWill Dailey\nat Firehouse Center for the Arts\nFriday\, August 31st \n\nJoin us for an evening with Will Dailey to help us kick-off the 17th Annual Newburyport Riverfront Music Festival at the Firehouse Center for the Arts! He’ll be playing a special set the night before the festival for only a select group of listeners. Tickets are running out\, but you can also win some by entering here! \nGOOD LUCK!
URL:https://theriverboston.com/events/regency-mortgage-and-92-5-the-river-presents-will-dailey-firehouse-center-for-the-arts/
LOCATION:Firehouse Center for the Arts\, Market Square\, Newburyport\, MA\, 01950\, United States
END:VEVENT
END:VCALENDAR