BEGIN:VCALENDAR
VERSION:2.0
PRODID:-//92.5 the River - ECPv5.16.3.1//NONSGML v1.0//EN
CALSCALE:GREGORIAN
METHOD:PUBLISH
X-WR-CALNAME:92.5 the River
X-ORIGINAL-URL:https://theriverboston.com
X-WR-CALDESC:Events for 92.5 the River
BEGIN:VTIMEZONE
TZID:America/New_York
BEGIN:DAYLIGHT
TZOFFSETFROM:-0500
TZOFFSETTO:-0400
TZNAME:EDT
DTSTART:20180311T070000
END:DAYLIGHT
BEGIN:STANDARD
TZOFFSETFROM:-0400
TZOFFSETTO:-0500
TZNAME:EST
DTSTART:20181104T060000
END:STANDARD
END:VTIMEZONE
BEGIN:VEVENT
DTSTART;TZID=America/New_York:20180908T200000
DTEND;TZID=America/New_York:20180908T200000
DTSTAMP:20260422T234014
CREATED:20180724T160446Z
LAST-MODIFIED:20180724T160446Z
UID:108745-1536436800-1536436800@theriverboston.com
SUMMARY:Rev. Sekou Live at The Loft
DESCRIPTION:Rev. Sekou Live at the Loft\nRev. Sekou will be at the Music Hall Loft on Saturday\, September 8th at 8pm! Sanctified blues blends with country\, 1960s rock and roll\, and soul for a spiritual performance. Tickets are available now!
URL:https://theriverboston.com/events/rev-sekou-live-at-the-loft/
LOCATION:The Music Hall\, 28 Chestnut Street\, Portsmouth\, NH\, 03801\, United States
END:VEVENT
END:VCALENDAR