BEGIN:VCALENDAR
VERSION:2.0
PRODID:-//92.5 the River - ECPv5.16.3.1//NONSGML v1.0//EN
CALSCALE:GREGORIAN
METHOD:PUBLISH
X-WR-CALNAME:92.5 the River
X-ORIGINAL-URL:https://theriverboston.com
X-WR-CALDESC:Events for 92.5 the River
BEGIN:VTIMEZONE
TZID:America/New_York
BEGIN:DAYLIGHT
TZOFFSETFROM:-0500
TZOFFSETTO:-0400
TZNAME:EDT
DTSTART:20230312T070000
END:DAYLIGHT
BEGIN:STANDARD
TZOFFSETFROM:-0400
TZOFFSETTO:-0500
TZNAME:EST
DTSTART:20231105T060000
END:STANDARD
END:VTIMEZONE
BEGIN:VEVENT
DTSTART;TZID=America/New_York:20231230T200000
DTEND;TZID=America/New_York:20231230T233000
DTSTAMP:20260425T183605
CREATED:20230830T201354Z
LAST-MODIFIED:20230830T201441Z
UID:221265-1703966400-1703979000@theriverboston.com
SUMMARY:RIPE at the Sinclair
DESCRIPTION:Join Riverfest 2023 headliner RIPE for an intimate evening at The Sinclair. The band will be performing their debt album\, Joy in the Wild Unknown. \n$.25 from each ticket purchased will go to The Shout Syndicate\, a Boston-based\, volunteer-run fundraising effort who raises money to help fund youth-led arts programs at proven non-profit creative youth development organizations in Greater Boston. Housed at The Boston Foundation\, The Shout Syndicate works in partnership with the Mayor’s Office of Arts & Culture’s creative plan\, Boston Creates. https://www.theshoutsyndicate.com
URL:https://theriverboston.com/events/ripe-at-the-sinclair-2/
LOCATION:The Sinclair\, 52 Church Street\, Cambridge\, MA\, 02138\, United States
END:VEVENT
END:VCALENDAR